BEGIN:VCALENDAR
VERSION:2.0
PRODID:-//The Marcus J Borg Foundation - ECPv6.15.20//NONSGML v1.0//EN
CALSCALE:GREGORIAN
METHOD:PUBLISH
X-ORIGINAL-URL:https://marcusjborg.org
X-WR-CALDESC:Events for The Marcus J Borg Foundation
REFRESH-INTERVAL;VALUE=DURATION:PT1H
X-Robots-Tag:noindex
X-PUBLISHED-TTL:PT1H
BEGIN:VTIMEZONE
TZID:UTC
BEGIN:STANDARD
TZOFFSETFROM:+0000
TZOFFSETTO:+0000
TZNAME:UTC
DTSTART:20170101T000000
END:STANDARD
END:VTIMEZONE
BEGIN:VEVENT
DTSTART;TZID=UTC:20180622T190000
DTEND;TZID=UTC:20180623T150000
DTSTAMP:20260423T234618
CREATED:20180425T040334Z
LAST-MODIFIED:20180512T052813Z
UID:3354-1529694000-1529766000@marcusjborg.org
SUMMARY:Seeing Jesus Through a 21st Century Lens
DESCRIPTION:[vc_row][vc_column][vc_column_text]The Marcus J Borg Foundation presents the first annual Bend seminar weekend with author and speaker Michael Morwood. Morwood will discuss “Seeing Jesus Through a 21st Century Lens” and how the Christian story can be told in a modern era. Join host\, Marianne Borg for a panel conversation with Rev. Ron Werner and Rev. Erika Spaet following Morwood’s presentation.[/vc_column_text][/vc_column][/vc_row][vc_row][vc_column width=”1/2″][vc_column_text] \nMichael Morwood’s Bio\n\nAuthor of ten books on spirituality\, prayer and faith formation in the 21st century.\nAddresses the urgent need to reshape Christian imagine and thinking.\nExtensive background in spirituality adult faith formation and retreat ministry.\nSpoken with Christian groups in Australia\, Ireland\, England\, every province in Canada and in over 30 states in the US.\nResident theologian at Kirkridge retreat center in Pennsylvania for four years.\n\nIn non-academic language Michael integrates understandings of God\, Revelation\, Jesus\, prayer and human dignity with contemporary scientific data about the universe and our place in it. \n[/vc_column_text][/vc_column][vc_column width=”1/2″][vc_column_text] \nSchedule of Events\n\nFriday evening June 22nd\, 7:00pm – 8:30pm (reception to follow): How the Jesus Story has been told throughout the centuries: an introduction to then and now\nSaturday June 23rd\, 9:00am – 3:00pm (lunch included): How contemporary scientific data about the universe and our place in it can illumine what it means to be Christian in the 21st Century; an intergenerational conversation\n\n[/vc_column_text][vc_column_text] \nLocation\nTrinity Episcopal Church\nSt. Helen’s Hall\, 231 NW Idaho Avenue\nBend\, Oregon 97701[/vc_column_text][vc_column_text] \nA Panel Discussion\nFollowing Morwood’s talk\, we will have a conversation hosted by The Rev. Canon Marianne Wells Borg with Rev. Ron Werner and Rev. Erika Spaet[/vc_column_text][/vc_column][/vc_row]
URL:https://marcusjborg.org/event/seeing-jesus-through-a-21st-century-lens/
LOCATION:Trinity Episcopal Church\, St. Helen’s Hall\, 231 NW Idaho Street\, Bend\, OR\, 97701\, United States
CATEGORIES:Lectures,Meetings
ATTACH;FMTTYPE=image/jpeg:https://marcusjborg.org/wp-content/uploads/2018/04/universe_for_postcard_cropped.jpg
ORGANIZER;CN="The Marcus J Borg Foundation":MAILTO:info@marcusjborg.org
END:VEVENT
END:VCALENDAR