BEGIN:VCALENDAR
VERSION:2.0
PRODID:-//The Marcus J Borg Foundation - ECPv6.15.20//NONSGML v1.0//EN
CALSCALE:GREGORIAN
METHOD:PUBLISH
X-WR-CALNAME:The Marcus J Borg Foundation
X-ORIGINAL-URL:https://marcusjborg.org
X-WR-CALDESC:Events for The Marcus J Borg Foundation
REFRESH-INTERVAL;VALUE=DURATION:PT1H
X-Robots-Tag:noindex
X-PUBLISHED-TTL:PT1H
BEGIN:VTIMEZONE
TZID:America/Los_Angeles
BEGIN:DAYLIGHT
TZOFFSETFROM:-0800
TZOFFSETTO:-0700
TZNAME:PDT
DTSTART:20170312T100000
END:DAYLIGHT
BEGIN:STANDARD
TZOFFSETFROM:-0700
TZOFFSETTO:-0800
TZNAME:PST
DTSTART:20171105T090000
END:STANDARD
BEGIN:DAYLIGHT
TZOFFSETFROM:-0800
TZOFFSETTO:-0700
TZNAME:PDT
DTSTART:20180311T100000
END:DAYLIGHT
BEGIN:STANDARD
TZOFFSETFROM:-0700
TZOFFSETTO:-0800
TZNAME:PST
DTSTART:20181104T090000
END:STANDARD
BEGIN:DAYLIGHT
TZOFFSETFROM:-0800
TZOFFSETTO:-0700
TZNAME:PDT
DTSTART:20190310T100000
END:DAYLIGHT
BEGIN:STANDARD
TZOFFSETFROM:-0700
TZOFFSETTO:-0800
TZNAME:PST
DTSTART:20191103T090000
END:STANDARD
BEGIN:DAYLIGHT
TZOFFSETFROM:-0800
TZOFFSETTO:-0700
TZNAME:PDT
DTSTART:20200308T100000
END:DAYLIGHT
BEGIN:STANDARD
TZOFFSETFROM:-0700
TZOFFSETTO:-0800
TZNAME:PST
DTSTART:20201101T090000
END:STANDARD
BEGIN:DAYLIGHT
TZOFFSETFROM:-0800
TZOFFSETTO:-0700
TZNAME:PDT
DTSTART:20210314T100000
END:DAYLIGHT
BEGIN:STANDARD
TZOFFSETFROM:-0700
TZOFFSETTO:-0800
TZNAME:PST
DTSTART:20211107T090000
END:STANDARD
END:VTIMEZONE
BEGIN:VEVENT
DTSTART;TZID=America/Los_Angeles:20200208T093000
DTEND;TZID=America/Los_Angeles:20200208T120000
DTSTAMP:20260423T223526
CREATED:20190927T204232Z
LAST-MODIFIED:20190927T204407Z
UID:4861-1581154200-1581163200@marcusjborg.org
SUMMARY:Bend Group Discussion - Feb 8\, 2020
DESCRIPTION:RSVP Here \nBend Group Discussion Introduction\nMarianne Borg and Bill Ellis (both retired Episcopal clergy) welcome you to continue the conversation about how our doubts and loves shape our relationship to Christianity\, spirituality\, religion\, and our life together. \nFeb 8th Discussion – Doubts and Loves\nThis year we will reflect upon the importance of interpretation and how experience and concepts affects our perplexities and commitments. Hence\, an exploration of our Doubts and Loves. Each session will be a stand alone. \nRSVP Here
URL:https://marcusjborg.org/event/bend-fall-group-discussion-feb2020/
LOCATION:Trinity Episcopal Church\, St. Helen’s Hall\, 231 NW Idaho Street\, Bend\, OR\, 97701\, United States
CATEGORIES:Discussions,Meetings
ATTACH;FMTTYPE=image/jpeg:https://marcusjborg.org/wp-content/uploads/2018/07/lighthouse-into-the-deep.jpg
ORGANIZER;CN="The Marcus J Borg Foundation":MAILTO:info@marcusjborg.org
END:VEVENT
BEGIN:VEVENT
DTSTART;TZID=America/Los_Angeles:20200104T093000
DTEND;TZID=America/Los_Angeles:20200104T120000
DTSTAMP:20260423T223526
CREATED:20190927T203926Z
LAST-MODIFIED:20191204T003513Z
UID:4856-1578130200-1578139200@marcusjborg.org
SUMMARY:Bend Group Discussion - Jan 4\, 2020
DESCRIPTION:RSVP Here \nBend Group Discussion Introduction\nMarianne Borg and Bill Ellis (both retired Episcopal clergy) welcome you to continue the conversation about how our doubts and loves shape our relationship to Christianity\, spirituality\, religion\, and our life together. \nJan 4th Discussion – Doubts and Loves\nThis year we will reflect upon the importance of interpretation and how experience and concepts affects our perplexities and commitments. Hence\, an exploration of our Doubts and Loves. Each session will be a stand alone. \nAs we reimagine God we reimagine prayer. Bill and Marianne will explore the importance and necessity of reimagining what we are doing when we pray. \nRSVP Here
URL:https://marcusjborg.org/event/bend-fall-group-discussion-jan2020/
LOCATION:Trinity Episcopal Church\, St. Helen’s Hall\, 231 NW Idaho Street\, Bend\, OR\, 97701\, United States
CATEGORIES:Discussions,Meetings
ATTACH;FMTTYPE=image/jpeg:https://marcusjborg.org/wp-content/uploads/2018/07/lighthouse-into-the-deep.jpg
ORGANIZER;CN="The Marcus J Borg Foundation":MAILTO:info@marcusjborg.org
END:VEVENT
BEGIN:VEVENT
DTSTART;TZID=America/Los_Angeles:20191214T093000
DTEND;TZID=America/Los_Angeles:20191214T120000
DTSTAMP:20260423T223526
CREATED:20190927T203657Z
LAST-MODIFIED:20191203T010149Z
UID:4852-1576315800-1576324800@marcusjborg.org
SUMMARY:Bend Group Discussion - Dec 14\, 2019
DESCRIPTION:RSVP Here \nBend Group Discussion Introduction\nMarianne Borg and Bill Ellis (both retired Episcopal clergy) welcome you to continue the conversation about how our doubts and loves shape our relationship to Christianity\, spirituality\, religion\, and our life together. \nDec 14th Discussion – Doubts and Loves\nThis year we will reflect upon the importance of interpretation and how experience and concepts affects our perplexities and commitments. Hence\, an exploration of our Doubts and Loves. Each session will be a stand alone. \nThis session Bill and Marianne will discuss the Christmas stories in Matthew and Luke and the coming of Jesus as paradox to the one they long expected. \nRSVP Here
URL:https://marcusjborg.org/event/bend-fall-group-discussion-dec2019/
LOCATION:Trinity Episcopal Church\, St. Helen’s Hall\, 231 NW Idaho Street\, Bend\, OR\, 97701\, United States
CATEGORIES:Discussions,Meetings
ATTACH;FMTTYPE=image/jpeg:https://marcusjborg.org/wp-content/uploads/2018/07/lighthouse-into-the-deep.jpg
ORGANIZER;CN="The Marcus J Borg Foundation":MAILTO:info@marcusjborg.org
END:VEVENT
BEGIN:VEVENT
DTSTART;TZID=America/Los_Angeles:20191116T093000
DTEND;TZID=America/Los_Angeles:20191116T120000
DTSTAMP:20260423T223526
CREATED:20190927T010436Z
LAST-MODIFIED:20191105T231957Z
UID:4849-1573896600-1573905600@marcusjborg.org
SUMMARY:Bend Group Discussion - Nov 16\, 2019
DESCRIPTION:RSVP Here \nBend Group Discussion Introduction\nMarianne Borg and Bill Ellis (both retired Episcopal clergy) welcome you to continue the conversation about how our doubts and loves shape our relationship to Christianity\, spirituality\, religion\, and our life together. \nNov 16th Discussion – Doubts and Loves\nThis year we will reflect upon the importance of interpretation and how experience and concepts affects our perplexities and commitments. Hence\, an exploration of our Doubts and Loves. Each session will be a stand alone. \nRSVP Here
URL:https://marcusjborg.org/event/bend-fall-group-discussion-nov219/
LOCATION:Trinity Episcopal Church\, St. Helen’s Hall\, 231 NW Idaho Street\, Bend\, OR\, 97701\, United States
CATEGORIES:Discussions,Meetings
ATTACH;FMTTYPE=image/jpeg:https://marcusjborg.org/wp-content/uploads/2018/07/lighthouse-into-the-deep.jpg
ORGANIZER;CN="The Marcus J Borg Foundation":MAILTO:info@marcusjborg.org
END:VEVENT
BEGIN:VEVENT
DTSTART;TZID=America/Los_Angeles:20191012T093000
DTEND;TZID=America/Los_Angeles:20191012T120000
DTSTAMP:20260423T223526
CREATED:20190920T223617Z
LAST-MODIFIED:20190924T000657Z
UID:4843-1570872600-1570881600@marcusjborg.org
SUMMARY:Bend Group Discussion - Oct 12\, 2019
DESCRIPTION:RSVP Here \nBend Group Discussion Introduction\nMarianne Borg and Bill Ellis (both retired Episcopal clergy) welcome you to continue the conversation about how our doubts and loves shape our relationship to Christianity\, spirituality\, religion\, and our life together.  Marianne and Bill began this conversation last fall and continue it beginning October 12\, 2019. \nOct 12th Discussion – Doubts and Loves\nThis year we will reflect upon the importance of interpretation and how experience and concepts affects our perplexities and commitments.  Hence\, an exploration of  our Doubts and Loves.  Each session will be a stand alone. \nRSVP Here
URL:https://marcusjborg.org/event/bend-fall-group-discussion-oct219/
LOCATION:Trinity Episcopal Church\, St. Helen’s Hall\, 231 NW Idaho Street\, Bend\, OR\, 97701\, United States
CATEGORIES:Discussions,Meetings
ATTACH;FMTTYPE=image/jpeg:https://marcusjborg.org/wp-content/uploads/2018/07/lighthouse-into-the-deep.jpg
ORGANIZER;CN="The Marcus J Borg Foundation":MAILTO:info@marcusjborg.org
END:VEVENT
BEGIN:VEVENT
DTSTART;TZID=America/Los_Angeles:20190413T090000
DTEND;TZID=America/Los_Angeles:20190413T113000
DTSTAMP:20260423T223526
CREATED:20180924T234545Z
LAST-MODIFIED:20190321T004400Z
UID:4086-1555146000-1555155000@marcusjborg.org
SUMMARY:Bend Discussion - Into the Deep
DESCRIPTION:RSVP Here \nInto the Deep Introduction\nIn June of 2018 the Marcus J. Borg Foundation sponsored our first lecture weekend with speaker Michael Morwood. Following that event many asked us to continue to provide opportunity to explore and re-imagine what it means to be “religious\,” “spiritual\,” “Christian\,” “none\,” “other…”. We are doing just that on the second Saturday of the month in Bend. We invite you to loosen your moorings and venture with us “Into the Deep.” All are welcome. \nApril 13th Discussion – Palm Sunday and Resurrection\nOn Saturday\, April 13\, the day before Palm Sunday\, we will have our final conversation and plunge “Into the Deep” for this spring. \nThe topic will be Palm Sunday and Resurrection. We will consider why the story of Jesus’ entry into Jerusalem is provocative and important. And how the story poignantly contrasts rival kingdoms. We will also puzzle about resurrection\, even resurrection of the body\, and what we think it means for us today. \nMarianne Borg and Bill Ellis will continue “Into the Deep” on second Saturdays beginning in October\, 2019 and continuing through April 2020. We will meet at St. Helen’s Hall at Trinity Episcopal Church\, Bend. \nIf you have not been with us before\, come April 13 and be part of the conversation. It is not too late to join us. Each session stands on its own. Come and gather with a wonderful group of people. All are welcome. The sessions are free. \nRSVP Here
URL:https://marcusjborg.org/event/bend-fall-group-discussion-6/
LOCATION:Trinity Episcopal Church\, St. Helen’s Hall\, 231 NW Idaho Street\, Bend\, OR\, 97701\, United States
CATEGORIES:Discussions,Meetings
ATTACH;FMTTYPE=image/jpeg:https://marcusjborg.org/wp-content/uploads/2018/07/lighthouse-into-the-deep.jpg
ORGANIZER;CN="The Marcus J Borg Foundation":MAILTO:info@marcusjborg.org
END:VEVENT
BEGIN:VEVENT
DTSTART;TZID=America/Los_Angeles:20190309T090000
DTEND;TZID=America/Los_Angeles:20190309T113000
DTSTAMP:20260423T223526
CREATED:20180924T234356Z
LAST-MODIFIED:20190221T184834Z
UID:4085-1552122000-1552131000@marcusjborg.org
SUMMARY:Bend Discussion - Into the Deep
DESCRIPTION:RSVP Here \nInto the Deep Introduction\nIn June of 2018 the Marcus J. Borg Foundation sponsored our first lecture weekend with speaker Michael Morwood. Following that event many asked us to continue to provide opportunity to explore and re-imagine what it means to be “religious\,” “spiritual\,” “Christian\,” “none\,” “other…”. We are doing just that on the second Saturday of the month in Bend. We invite you to loosen your moorings and venture with us “Into the Deep.” All are welcome. \nMarch 9th Discussion – Worldview\nMarianne Borg and Bill Ellis will continue the conversation and explore WORLDVIEW. According to the Christian liturgical year we will be in the season of Lent. Lent is a time when the question is called about what matters to us\, what we think is possible\, what we think about the human condition\, and the purpose or meaning of life. In keeping with the prompt of the season we will explore WORLDVIEW; our “philosophy of life” or concept of the world. Worldviews are not just individual. They reflect society’s understanding of life as well. We will reflect on our own view of things\, how we got there\, and how it shapes our hopes and fears. We will also include a discussion of Beauty. Which Augustine suggested we cannot live without. \nAll are welcome. Please join us even if this is your first time! \nRSVP Here
URL:https://marcusjborg.org/event/bend-fall-group-discussion-5/
LOCATION:Trinity Episcopal Church\, St. Helen’s Hall\, 231 NW Idaho Street\, Bend\, OR\, 97701\, United States
CATEGORIES:Discussions,Meetings
ATTACH;FMTTYPE=image/jpeg:https://marcusjborg.org/wp-content/uploads/2018/07/lighthouse-into-the-deep.jpg
ORGANIZER;CN="The Marcus J Borg Foundation":MAILTO:info@marcusjborg.org
END:VEVENT
BEGIN:VEVENT
DTSTART;TZID=America/Los_Angeles:20190112T090000
DTEND;TZID=America/Los_Angeles:20190112T113000
DTSTAMP:20260423T223526
CREATED:20180924T234043Z
LAST-MODIFIED:20190221T184841Z
UID:4083-1547283600-1547292600@marcusjborg.org
SUMMARY:Bend Discussion - Into the Deep
DESCRIPTION:RSVP Here \nInto the Deep Introduction\nIn June of 2018 the Marcus J. Borg Foundation sponsored our first lecture weekend with speaker Michael Morwood. Following that event many asked us to continue to provide opportunity to explore and re-imagine what it means to be “religious\,” “spiritual\,” “Christian\,” “none\,” “other…”. We are doing just that on the second Saturday of the month in Bend. We invite you to loosen your moorings and venture with us “Into the Deep.” All are welcome. \nJanuary 12th – On Mysticism\nSaturday January 12\, from 9:00 – 11:30 am Marianne Borg and Bill Ellis will continue the conversation. This month they will explore MYSTICISM; why it might not only be important but imperative to reexamine and redefine it. At best mysticism has been considered an experience of union with ultimate reality. More pejoratively it has been considered esoteric\, occult\, supernatural\, nebulous\, fuzzy\, privatized. Albeit a realm available to “religious specialists\,” which excludes most of us. We want to unfetter the “mystical experience” from “secret” or “hidden” knowledge and bring it into the every day. Where we experience it. \nCome join in the conversation! All are welcome. This is a free event opportunity. \nRSVP Here
URL:https://marcusjborg.org/event/bend-fall-group-discussion-3/
LOCATION:Trinity Episcopal Church\, St. Helen’s Hall\, 231 NW Idaho Street\, Bend\, OR\, 97701\, United States
CATEGORIES:Discussions,Meetings
ATTACH;FMTTYPE=image/jpeg:https://marcusjborg.org/wp-content/uploads/2018/07/lighthouse-into-the-deep.jpg
ORGANIZER;CN="The Marcus J Borg Foundation":MAILTO:info@marcusjborg.org
END:VEVENT
BEGIN:VEVENT
DTSTART;TZID=America/Los_Angeles:20181208T090000
DTEND;TZID=America/Los_Angeles:20181208T113000
DTSTAMP:20260423T223526
CREATED:20180924T233830Z
LAST-MODIFIED:20190221T184849Z
UID:4082-1544259600-1544268600@marcusjborg.org
SUMMARY:Bend Group Discussion - Into the Deep\, Seeking God in the 21st Century
DESCRIPTION:The Marcus J. Borg Foundation hosted author and theologian Michael Morwood in June at Trinity. Michael spoke about “Seeing Jesus through a 21st Century Lens.” There was much discussion and engagement about his thoughts\, perceptions\, and scholarship. Many wanted an opportunity to continue the conversation. We are going to do just that. \nSix gatherings have been scheduled in St. Helens Hall for Into the Deep\, Seeking God in the 21st Century (renamed from Continuing the Conversation). All are on the second Saturday of the month\, beginning November 10th\, and will begin at 9 AM. Everyone is welcome to attend\, whether or not you were able to attend the original session with Michael Morwood. \nRev. Marianne Borg\, founder of the Marcus J. Borg Foundation (sponsor for these conversations)\, and Rev. Bill Ellis co-lead these sessions. We will provide a frame for the morning and guidelines for listening. We count on your participation and learning from one another. \nWe look forward to welcoming a diverse and ecumenical group. Get the word out to friends and neighbors who are seeking a safe\, encouraging\, thoughtful exploration of faith\, religious and spiritual experience\, and Christianity in the 21st century. \nThe topic of this meeting is “Winter Landscape and Unpacking the Christmas Stories.”
URL:https://marcusjborg.org/event/bend-fall-group-discussion-2/
LOCATION:Trinity Episcopal Church\, St. Helen’s Hall\, 231 NW Idaho Street\, Bend\, OR\, 97701\, United States
CATEGORIES:Discussions,Meetings
ATTACH;FMTTYPE=image/jpeg:https://marcusjborg.org/wp-content/uploads/2018/09/winter_landscape.jpg
ORGANIZER;CN="The Marcus J Borg Foundation":MAILTO:info@marcusjborg.org
END:VEVENT
BEGIN:VEVENT
DTSTART;TZID=America/Los_Angeles:20181110T090000
DTEND;TZID=America/Los_Angeles:20181110T113000
DTSTAMP:20260423T223526
CREATED:20180725T064153Z
LAST-MODIFIED:20190221T184856Z
UID:3782-1541840400-1541849400@marcusjborg.org
SUMMARY:Bend Group Discussion - Into the Deep\, Seeking God in the 21st Century
DESCRIPTION:The Marcus J. Borg Foundation hosted author and theologian Michael Morwood in June at Trinity. Michael spoke about “Seeing Jesus through a 21st Century Lens.” There was much discussion and engagement about his thoughts\, perceptions\, and scholarship. Many wanted an opportunity to continue the conversation. We are going to do just that. \nSix gatherings have been scheduled in St. Helens Hall for Into the Deep\, Seeking God in the 21st Century (renamed from Continuing the Conversation). All are on the second Saturday of the month\, beginning November 10th\, and will begin at 9 AM. Everyone is welcome to attend\, whether or not you were able to attend the original session with Michael Morwood. \nRev. Marianne Borg\, founder of the Marcus J. Borg Foundation (sponsor for these conversations)\, and Rev. Bill Ellis co-lead these sessions. We will provide a frame for the morning and guidelines for listening. We count on your participation and learning from one another. \nOur first conversation will explore: What is progressive Christianity? What do we make of it? What questions are provoked? \nWe look forward to welcoming a diverse and ecumenical group. Get the word out to friends and neighbors who are seeking a safe\, encouraging\, thoughtful exploration of faith\, religious and spiritual experience\, and Christianity in the 21st century.
URL:https://marcusjborg.org/event/bend-fall-group-discussion/
LOCATION:Trinity Episcopal Church\, St. Helen’s Hall\, 231 NW Idaho Street\, Bend\, OR\, 97701\, United States
CATEGORIES:Discussions,Meetings
ATTACH;FMTTYPE=image/jpeg:https://marcusjborg.org/wp-content/uploads/2018/07/lighthouse-into-the-deep.jpg
ORGANIZER;CN="The Marcus J Borg Foundation":MAILTO:info@marcusjborg.org
END:VEVENT
END:VCALENDAR