BEGIN:VCALENDAR
VERSION:2.0
PRODID:-//The Marcus J Borg Foundation - ECPv6.15.20//NONSGML v1.0//EN
CALSCALE:GREGORIAN
METHOD:PUBLISH
X-ORIGINAL-URL:https://marcusjborg.org
X-WR-CALDESC:Events for The Marcus J Borg Foundation
REFRESH-INTERVAL;VALUE=DURATION:PT1H
X-Robots-Tag:noindex
X-PUBLISHED-TTL:PT1H
BEGIN:VTIMEZONE
TZID:America/Los_Angeles
BEGIN:DAYLIGHT
TZOFFSETFROM:-0800
TZOFFSETTO:-0700
TZNAME:PDT
DTSTART:20250309T100000
END:DAYLIGHT
BEGIN:STANDARD
TZOFFSETFROM:-0700
TZOFFSETTO:-0800
TZNAME:PST
DTSTART:20251102T090000
END:STANDARD
BEGIN:DAYLIGHT
TZOFFSETFROM:-0800
TZOFFSETTO:-0700
TZNAME:PDT
DTSTART:20260308T100000
END:DAYLIGHT
BEGIN:STANDARD
TZOFFSETFROM:-0700
TZOFFSETTO:-0800
TZNAME:PST
DTSTART:20261101T090000
END:STANDARD
BEGIN:DAYLIGHT
TZOFFSETFROM:-0800
TZOFFSETTO:-0700
TZNAME:PDT
DTSTART:20270314T100000
END:DAYLIGHT
BEGIN:STANDARD
TZOFFSETFROM:-0700
TZOFFSETTO:-0800
TZNAME:PST
DTSTART:20271107T090000
END:STANDARD
END:VTIMEZONE
BEGIN:VEVENT
DTSTART;TZID=America/Los_Angeles:20260509T093000
DTEND;TZID=America/Los_Angeles:20260509T110000
DTSTAMP:20260423T095129
CREATED:20260413T185848Z
LAST-MODIFIED:20260413T185848Z
UID:7123-1778319000-1778324400@marcusjborg.org
SUMMARY:Second Saturday Conversation - May 9\, 2026
DESCRIPTION:Register for May 9 Second Saturday Conversation\nOur next Second Saturday Conversation will be May 9\, 2026. 9:30-11:00 am pacific time.  \nAll our sessions are free. But you need to RSVP to receive a link to the gathering. All are welcome. We are fortunate on Second Saturday to explore Christianity in and for the 21st century. This session will be doing just that. \nRegister for May 9 Second Saturday Conversation\n\nRegister Now for May 9\n\n 
URL:https://marcusjborg.org/event/second-saturday-conversation-may-9-2026/
LOCATION:Zoom\, Register to receive link
CATEGORIES:Discussions,Meetings
ATTACH;FMTTYPE=image/jpeg:https://marcusjborg.org/wp-content/uploads/2025/06/aurora-landscape.jpg
ORGANIZER;CN="The Marcus J Borg Foundation":MAILTO:info@marcusjborg.org
END:VEVENT
END:VCALENDAR